BEGIN:VCALENDAR
VERSION:2.0
PRODID:-//Jugend ohne Grenzen - ECPv6.15.20//NONSGML v1.0//EN
CALSCALE:GREGORIAN
METHOD:PUBLISH
X-ORIGINAL-URL:https://webseite2025.jugend-ohne-grenzen.net
X-WR-CALDESC:Veranstaltungen für Jugend ohne Grenzen
REFRESH-INTERVAL;VALUE=DURATION:PT1H
X-Robots-Tag:noindex
X-PUBLISHED-TTL:PT1H
BEGIN:VTIMEZONE
TZID:Europe/Berlin
BEGIN:DAYLIGHT
TZOFFSETFROM:+0100
TZOFFSETTO:+0200
TZNAME:CEST
DTSTART:20250330T010000
END:DAYLIGHT
BEGIN:STANDARD
TZOFFSETFROM:+0200
TZOFFSETTO:+0100
TZNAME:CET
DTSTART:20251026T010000
END:STANDARD
BEGIN:DAYLIGHT
TZOFFSETFROM:+0100
TZOFFSETTO:+0200
TZNAME:CEST
DTSTART:20260329T010000
END:DAYLIGHT
BEGIN:STANDARD
TZOFFSETFROM:+0200
TZOFFSETTO:+0100
TZNAME:CET
DTSTART:20261025T010000
END:STANDARD
BEGIN:DAYLIGHT
TZOFFSETFROM:+0100
TZOFFSETTO:+0200
TZNAME:CEST
DTSTART:20270328T010000
END:DAYLIGHT
BEGIN:STANDARD
TZOFFSETFROM:+0200
TZOFFSETTO:+0100
TZNAME:CET
DTSTART:20271031T010000
END:STANDARD
END:VTIMEZONE
BEGIN:VEVENT
DTSTART;VALUE=DATE:20260926
DTEND;VALUE=DATE:20260927
DTSTAMP:20260424T202705
CREATED:20260303T193018Z
LAST-MODIFIED:20260416T201408Z
UID:262511-1790380800-1790467199@webseite2025.jugend-ohne-grenzen.net
SUMMARY:Jubiläum 2026
DESCRIPTION:25 Jahre Engagement.\n25 Jahre Gemeinschaft.\n25 Jahre Ehrenamt. \nWas uns verbindet? \nWir vernetzen das Ehrenamt! Wir bringen Leute zusammen\, die Bock haben\, die Welt (oder zumindest ihre Stadt) ein Stück besser zu machen. Egal ob Hamburg\, München oder überall sonst – wir sind die Base für dein Engagement. \nFEIERT MIT UNS! 🥳\nKomm rum zu unserem Jubiläums-Event und lass uns zeigen\, was junge Power im Ehrenamt wirklich kann.\n \n\n\nSie sehen gerade einen Platzhalterinhalt von Standard. Um auf den eigentlichen Inhalt zuzugreifen\, klicken Sie auf den Button unten. Bitte beachten Sie\, dass dabei Daten an Drittanbieter weitergegeben werden. \n Inhalt entsperren Erforderlichen Service akzeptieren und Inhalte entsperren \n Weitere Informationen
URL:https://webseite2025.jugend-ohne-grenzen.net/event/jubilaeum-2026/
LOCATION:HDJ Eidelstedt\, Baumacker 8A\, Hamburg\, 22523\, Germany
ORGANIZER;CN="Jugend ohne Grenzen e.V.":MAILTO:info@jugend-ohne-grenzen.net
END:VEVENT
END:VCALENDAR