BEGIN:VCALENDAR
VERSION:2.0
PRODID:-//Jugend ohne Grenzen - ECPv6.15.20//NONSGML v1.0//EN
CALSCALE:GREGORIAN
METHOD:PUBLISH
X-WR-CALNAME:Jugend ohne Grenzen
X-ORIGINAL-URL:https://webseite2025.jugend-ohne-grenzen.net
X-WR-CALDESC:Veranstaltungen für Jugend ohne Grenzen
REFRESH-INTERVAL;VALUE=DURATION:PT1H
X-Robots-Tag:noindex
X-PUBLISHED-TTL:PT1H
BEGIN:VTIMEZONE
TZID:Europe/Berlin
BEGIN:DAYLIGHT
TZOFFSETFROM:+0100
TZOFFSETTO:+0200
TZNAME:CEST
DTSTART:20250330T010000
END:DAYLIGHT
BEGIN:STANDARD
TZOFFSETFROM:+0200
TZOFFSETTO:+0100
TZNAME:CET
DTSTART:20251026T010000
END:STANDARD
BEGIN:DAYLIGHT
TZOFFSETFROM:+0100
TZOFFSETTO:+0200
TZNAME:CEST
DTSTART:20260329T010000
END:DAYLIGHT
BEGIN:STANDARD
TZOFFSETFROM:+0200
TZOFFSETTO:+0100
TZNAME:CET
DTSTART:20261025T010000
END:STANDARD
BEGIN:DAYLIGHT
TZOFFSETFROM:+0100
TZOFFSETTO:+0200
TZNAME:CEST
DTSTART:20270328T010000
END:DAYLIGHT
BEGIN:STANDARD
TZOFFSETFROM:+0200
TZOFFSETTO:+0100
TZNAME:CET
DTSTART:20271031T010000
END:STANDARD
END:VTIMEZONE
BEGIN:VEVENT
DTSTART;TZID=Europe/Berlin:20260503T180000
DTEND;TZID=Europe/Berlin:20260503T200000
DTSTAMP:20260424T151755
CREATED:20260413T165005Z
LAST-MODIFIED:20260413T165142Z
UID:387983-1777831200-1777838400@webseite2025.jugend-ohne-grenzen.net
SUMMARY:Sport am Sonntag: Dein sportlicher Wochenausklang in Marienthal! 🏀🏐⚽
DESCRIPTION:Sport am Sonntag: Dein sportlicher Wochenausklang in Marienthal! 🏀🏐⚽ \nDu hast Lust auf Sport\, aber keine Lust auf verbissenen Turnier-Stress? Du willst dich bewegen\, Neues ausprobieren und dabei nette Leute treffen? Dann bist du bei uns genau richtig! \nWir sind die „Sportlichen“ von Jugend ohne Grenzen e.V. – eine bunte Truppe von aktuell ca. 25 „jungen und junggebliebenen“ Sportfans zwischen 16 und 50 Jahren. Bei uns steht der Spaß an der Bewegung an erster Stelle. \n \nWas wir machen? Alles\, was Bock bringt! \nBei uns gibt es kein starres Programm. Wir entscheiden gemeinsam\, worauf wir Lust haben. Unser Mix ist so vielfältig wie unsere Gruppe: \n\nKlassiker: Fußball\, Basketball\, Handball\nNetzsport: Volleyball\, Badminton\nAction: Unihockey und vieles mehr!\n\nWir spielen ehrgeizig\, aber immer fair und ohne Druck. Egal ob Profi oder seit der Schulsportzeit nicht mehr aktiv – jeder ist willkommen. \nWann & Wo? \n\nJeden Sonntag: 18:00 – 20:00 Uhr\nTreffpunkt: 17:50 Uhr vor der Sporthalle\nOrt: Gymnasium Marienthal (Holstenhofweg 86\, 22043 Hamburg)\n\nSo einfach bist du dabei: \nWir organisieren uns unkompliziert über die kostenlose Spond-App. Einfach bis Freitag zu- oder absagen\, damit wir wissen\, wie viele Bälle wir aufpumpen müssen. \n \nDas Beste zum Schluss:\nDas Ganze kostet dich gerade mal 22\,– € Jahresbeitrag. Das ist wahrscheinlich der günstigste Sportkurs Hamburgs! \nLust auf ein Probetraining? \nKomm einfach vorbei und schnupper rein – völlig kostenlos und unverbindlich. Bring auch gerne Freunde oder deine Kids mit. \nBist du dabei? Wir freuen uns auf dich!
URL:https://webseite2025.jugend-ohne-grenzen.net/event/sport-am-sonntag-dein-sportlicher-wochenausklang-in-marienthal-%f0%9f%8f%80%f0%9f%8f%90%e2%9a%bd-3/
LOCATION:Sporthalle Marienthal\, Holstenhofweg 86\, Hamburg\, Hamburg\, 22043\, Germany
ATTACH;FMTTYPE=image/jpeg:https://webseite2025.jugend-ohne-grenzen.net/wp-content/uploads/2026/04/Jugend-ohne-Grenzen-Sport-Sonntag-Freiwillig-Ehrenamt-Gemeinschaft-Sportart-Fussball-Badminton-3.jpg
ORGANIZER;CN="Jugend ohne Grenzen e.V.":MAILTO:info@jugend-ohne-grenzen.net
END:VEVENT
BEGIN:VEVENT
DTSTART;TZID=Europe/Berlin:20260504T190000
DTEND;TZID=Europe/Berlin:20260504T210000
DTSTAMP:20260424T151755
CREATED:20260411T185027Z
LAST-MODIFIED:20260411T185117Z
UID:387961-1777921200-1777928400@webseite2025.jugend-ohne-grenzen.net
SUMMARY:Vorstandssitzung
DESCRIPTION:An jedem 1. Montag im Monat trifft sich der Vorstand zur Besprechung. \nIn einer Vorstandssitzung (VoSi) bespricht der Vorstand eines Vereins in der Regel alle strategischen\, organisatorischen und finanziellen Themen\, die für die Vereinsarbeit wichtig sind. Typische Punkte sind: \n📌 1. Organisatorisches \nAktueller Stand laufender Projekte und Veranstaltungen\nAufgabenverteilung im Vorstand\nTerminplanung (Events\, Mitgliederversammlung\, Fristen)\nKooperationen und Partnerschaften \n💰 2. Finanzen \nÜberblick über Einnahmen und Ausgaben\nHaushaltsplanung / Budget\nFördermittel\, Anträge\, Abrechnungen\nMitgliedsbeiträge \n👥 3. Mitglieder & Ehrenamt \nMitgliederentwicklung\nEngagement und Gewinnung neuer Ehrenamtlicher\nKonflikte oder besondere Anliegen\nWertschätzung und Motivation \n📣 4. Öffentlichkeitsarbeit \nSocial Media & Website\nNewsletter\nPressearbeit\nKampagnen oder Jubiläen \n🏛 5. Strategische Themen \nWeiterentwicklung des Vereins\nLeitbild\, Ziele\, Projekte\nSatzungsfragen\nVorbereitung von Wahlen oder Beschlüssen \n📝 6. Rechtliches & Formalia \nBeschlüsse fassen\nProtokoll der letzten Sitzung\nDatenschutz\, Versicherung\, Haftung \nSollen wir über dein Thema sprechen\, dann wende dich gerne an uns \nAnsprechpartnerin und Ansprechpartner für Rückfragen:\nAlica Levenhagen – Mail an Alica\nGerhard Renziehausen – Mail an Gerhard\n\nMarco Schröder – Mail an Marco
URL:https://webseite2025.jugend-ohne-grenzen.net/event/vorstandssitzung-2/
LOCATION:Hamburg
ATTACH;FMTTYPE=image/jpeg:https://webseite2025.jugend-ohne-grenzen.net/wp-content/uploads/2026/03/Jugend-ohne-Grenzen-Vorstand-Vorstandssitzung-VoSi-EHrenamt-Freiwillig-Netzwerktreffen-Hamburg.jpg
ORGANIZER;CN="Jugend ohne Grenzen e.V.":MAILTO:info@jugend-ohne-grenzen.net
END:VEVENT
BEGIN:VEVENT
DTSTART;TZID=Europe/Berlin:20260510T180000
DTEND;TZID=Europe/Berlin:20260510T200000
DTSTAMP:20260424T151755
CREATED:20260413T165110Z
LAST-MODIFIED:20260413T165110Z
UID:387985-1778436000-1778443200@webseite2025.jugend-ohne-grenzen.net
SUMMARY:Sport am Sonntag: Dein sportlicher Wochenausklang in Marienthal! 🏀🏐⚽
DESCRIPTION:Sport am Sonntag: Dein sportlicher Wochenausklang in Marienthal! 🏀🏐⚽ \nDu hast Lust auf Sport\, aber keine Lust auf verbissenen Turnier-Stress? Du willst dich bewegen\, Neues ausprobieren und dabei nette Leute treffen? Dann bist du bei uns genau richtig! \nWir sind die „Sportlichen“ von Jugend ohne Grenzen e.V. – eine bunte Truppe von aktuell ca. 25 „jungen und junggebliebenen“ Sportfans zwischen 16 und 50 Jahren. Bei uns steht der Spaß an der Bewegung an erster Stelle. \n \nWas wir machen? Alles\, was Bock bringt! \nBei uns gibt es kein starres Programm. Wir entscheiden gemeinsam\, worauf wir Lust haben. Unser Mix ist so vielfältig wie unsere Gruppe: \n\nKlassiker: Fußball\, Basketball\, Handball\nNetzsport: Volleyball\, Badminton\nAction: Unihockey und vieles mehr!\n\nWir spielen ehrgeizig\, aber immer fair und ohne Druck. Egal ob Profi oder seit der Schulsportzeit nicht mehr aktiv – jeder ist willkommen. \nWann & Wo? \n\nJeden Sonntag: 18:00 – 20:00 Uhr\nTreffpunkt: 17:50 Uhr vor der Sporthalle\nOrt: Gymnasium Marienthal (Holstenhofweg 86\, 22043 Hamburg)\n\nSo einfach bist du dabei: \nWir organisieren uns unkompliziert über die kostenlose Spond-App. Einfach bis Freitag zu- oder absagen\, damit wir wissen\, wie viele Bälle wir aufpumpen müssen. \n \nDas Beste zum Schluss:\nDas Ganze kostet dich gerade mal 22\,– € Jahresbeitrag. Das ist wahrscheinlich der günstigste Sportkurs Hamburgs! \nLust auf ein Probetraining? \nKomm einfach vorbei und schnupper rein – völlig kostenlos und unverbindlich. Bring auch gerne Freunde oder deine Kids mit. \nBist du dabei? Wir freuen uns auf dich!
URL:https://webseite2025.jugend-ohne-grenzen.net/event/sport-am-sonntag-dein-sportlicher-wochenausklang-in-marienthal-%f0%9f%8f%80%f0%9f%8f%90%e2%9a%bd-4/
LOCATION:Sporthalle Marienthal\, Holstenhofweg 86\, Hamburg\, Hamburg\, 22043\, Germany
ATTACH;FMTTYPE=image/jpeg:https://webseite2025.jugend-ohne-grenzen.net/wp-content/uploads/2026/04/Jugend-ohne-Grenzen-Sport-Sonntag-Freiwillig-Ehrenamt-Gemeinschaft-Sportart-Fussball-Badminton-3.jpg
ORGANIZER;CN="Jugend ohne Grenzen e.V.":MAILTO:info@jugend-ohne-grenzen.net
END:VEVENT
BEGIN:VEVENT
DTSTART;TZID=Europe/Berlin:20260517T180000
DTEND;TZID=Europe/Berlin:20260517T200000
DTSTAMP:20260424T151755
CREATED:20260413T165252Z
LAST-MODIFIED:20260413T165252Z
UID:387987-1779040800-1779048000@webseite2025.jugend-ohne-grenzen.net
SUMMARY:Sport am Sonntag: Dein sportlicher Wochenausklang in Marienthal! 🏀🏐⚽
DESCRIPTION:Sport am Sonntag: Dein sportlicher Wochenausklang in Marienthal! 🏀🏐⚽ \nDu hast Lust auf Sport\, aber keine Lust auf verbissenen Turnier-Stress? Du willst dich bewegen\, Neues ausprobieren und dabei nette Leute treffen? Dann bist du bei uns genau richtig! \nWir sind die „Sportlichen“ von Jugend ohne Grenzen e.V. – eine bunte Truppe von aktuell ca. 25 „jungen und junggebliebenen“ Sportfans zwischen 16 und 50 Jahren. Bei uns steht der Spaß an der Bewegung an erster Stelle. \n \nWas wir machen? Alles\, was Bock bringt! \nBei uns gibt es kein starres Programm. Wir entscheiden gemeinsam\, worauf wir Lust haben. Unser Mix ist so vielfältig wie unsere Gruppe: \n\nKlassiker: Fußball\, Basketball\, Handball\nNetzsport: Volleyball\, Badminton\nAction: Unihockey und vieles mehr!\n\nWir spielen ehrgeizig\, aber immer fair und ohne Druck. Egal ob Profi oder seit der Schulsportzeit nicht mehr aktiv – jeder ist willkommen. \nWann & Wo? \n\nJeden Sonntag: 18:00 – 20:00 Uhr\nTreffpunkt: 17:50 Uhr vor der Sporthalle\nOrt: Gymnasium Marienthal (Holstenhofweg 86\, 22043 Hamburg)\n\nSo einfach bist du dabei: \nWir organisieren uns unkompliziert über die kostenlose Spond-App. Einfach bis Freitag zu- oder absagen\, damit wir wissen\, wie viele Bälle wir aufpumpen müssen. \n \nDas Beste zum Schluss:\nDas Ganze kostet dich gerade mal 22\,– € Jahresbeitrag. Das ist wahrscheinlich der günstigste Sportkurs Hamburgs! \nLust auf ein Probetraining? \nKomm einfach vorbei und schnupper rein – völlig kostenlos und unverbindlich. Bring auch gerne Freunde oder deine Kids mit. \nBist du dabei? Wir freuen uns auf dich!
URL:https://webseite2025.jugend-ohne-grenzen.net/event/sport-am-sonntag-dein-sportlicher-wochenausklang-in-marienthal-%f0%9f%8f%80%f0%9f%8f%90%e2%9a%bd-5/
LOCATION:Sporthalle Marienthal\, Holstenhofweg 86\, Hamburg\, Hamburg\, 22043\, Germany
ATTACH;FMTTYPE=image/jpeg:https://webseite2025.jugend-ohne-grenzen.net/wp-content/uploads/2026/04/Jugend-ohne-Grenzen-Sport-Sonntag-Freiwillig-Ehrenamt-Gemeinschaft-Sportart-Fussball-Badminton-3.jpg
ORGANIZER;CN="Jugend ohne Grenzen e.V.":MAILTO:info@jugend-ohne-grenzen.net
END:VEVENT
BEGIN:VEVENT
DTSTART;TZID=Europe/Berlin:20260521T160000
DTEND;TZID=Europe/Berlin:20260521T180000
DTSTAMP:20260424T151755
CREATED:20260417T055532Z
LAST-MODIFIED:20260418T190952Z
UID:388137-1779379200-1779386400@webseite2025.jugend-ohne-grenzen.net
SUMMARY:Rad-Repair Cafe Rahlstedt
DESCRIPTION:
URL:https://webseite2025.jugend-ohne-grenzen.net/event/rad-repair-cafe-rahlstedt/
LOCATION:Stadtteilschule Oldenfelde\, Delingsdorfer Weg 6\, Hamburg\, Hamburg\, 22143\, Germany
ATTACH;FMTTYPE=image/png:https://webseite2025.jugend-ohne-grenzen.net/wp-content/uploads/2026/04/JoG-Rad-Repair-Cafe-Rahlstedt-Fahrrad-Repair-Reparatur-Freiwillig-Ehrenamt-Hamburg.png
ORGANIZER;CN="Jugend ohne Grenzen e.V.":MAILTO:info@jugend-ohne-grenzen.net
END:VEVENT
BEGIN:VEVENT
DTSTART;TZID=Europe/Berlin:20260524T180000
DTEND;TZID=Europe/Berlin:20260524T200000
DTSTAMP:20260424T151755
CREATED:20260413T165349Z
LAST-MODIFIED:20260413T165412Z
UID:387989-1779645600-1779652800@webseite2025.jugend-ohne-grenzen.net
SUMMARY:Sport am Sonntag: Dein sportlicher Wochenausklang in Marienthal! 🏀🏐⚽
DESCRIPTION:Sport am Sonntag: Dein sportlicher Wochenausklang in Marienthal! 🏀🏐⚽ \nDu hast Lust auf Sport\, aber keine Lust auf verbissenen Turnier-Stress? Du willst dich bewegen\, Neues ausprobieren und dabei nette Leute treffen? Dann bist du bei uns genau richtig! \nWir sind die „Sportlichen“ von Jugend ohne Grenzen e.V. – eine bunte Truppe von aktuell ca. 25 „jungen und junggebliebenen“ Sportfans zwischen 16 und 50 Jahren. Bei uns steht der Spaß an der Bewegung an erster Stelle. \n \nWas wir machen? Alles\, was Bock bringt! \nBei uns gibt es kein starres Programm. Wir entscheiden gemeinsam\, worauf wir Lust haben. Unser Mix ist so vielfältig wie unsere Gruppe: \n\nKlassiker: Fußball\, Basketball\, Handball\nNetzsport: Volleyball\, Badminton\nAction: Unihockey und vieles mehr!\n\nWir spielen ehrgeizig\, aber immer fair und ohne Druck. Egal ob Profi oder seit der Schulsportzeit nicht mehr aktiv – jeder ist willkommen. \nWann & Wo? \n\nJeden Sonntag: 18:00 – 20:00 Uhr\nTreffpunkt: 17:50 Uhr vor der Sporthalle\nOrt: Gymnasium Marienthal (Holstenhofweg 86\, 22043 Hamburg)\n\nSo einfach bist du dabei: \nWir organisieren uns unkompliziert über die kostenlose Spond-App. Einfach bis Freitag zu- oder absagen\, damit wir wissen\, wie viele Bälle wir aufpumpen müssen. \n \nDas Beste zum Schluss:\nDas Ganze kostet dich gerade mal 22\,– € Jahresbeitrag. Das ist wahrscheinlich der günstigste Sportkurs Hamburgs! \nLust auf ein Probetraining? \nKomm einfach vorbei und schnupper rein – völlig kostenlos und unverbindlich. Bring auch gerne Freunde oder deine Kids mit. \nBist du dabei? Wir freuen uns auf dich!
URL:https://webseite2025.jugend-ohne-grenzen.net/event/sport-am-sonntag-dein-sportlicher-wochenausklang-in-marienthal-%f0%9f%8f%80%f0%9f%8f%90%e2%9a%bd-6/
LOCATION:Sporthalle Marienthal\, Holstenhofweg 86\, Hamburg\, Hamburg\, 22043\, Germany
ATTACH;FMTTYPE=image/jpeg:https://webseite2025.jugend-ohne-grenzen.net/wp-content/uploads/2026/04/Jugend-ohne-Grenzen-Sport-Sonntag-Freiwillig-Ehrenamt-Gemeinschaft-Sportart-Fussball-Badminton-3.jpg
ORGANIZER;CN="Jugend ohne Grenzen e.V.":MAILTO:info@jugend-ohne-grenzen.net
END:VEVENT
BEGIN:VEVENT
DTSTART;TZID=Europe/Berlin:20260531T180000
DTEND;TZID=Europe/Berlin:20260531T200000
DTSTAMP:20260424T151755
CREATED:20260413T165503Z
LAST-MODIFIED:20260413T165503Z
UID:387992-1780250400-1780257600@webseite2025.jugend-ohne-grenzen.net
SUMMARY:Sport am Sonntag: Dein sportlicher Wochenausklang in Marienthal! 🏀🏐⚽
DESCRIPTION:Sport am Sonntag: Dein sportlicher Wochenausklang in Marienthal! 🏀🏐⚽ \nDu hast Lust auf Sport\, aber keine Lust auf verbissenen Turnier-Stress? Du willst dich bewegen\, Neues ausprobieren und dabei nette Leute treffen? Dann bist du bei uns genau richtig! \nWir sind die „Sportlichen“ von Jugend ohne Grenzen e.V. – eine bunte Truppe von aktuell ca. 25 „jungen und junggebliebenen“ Sportfans zwischen 16 und 50 Jahren. Bei uns steht der Spaß an der Bewegung an erster Stelle. \n \nWas wir machen? Alles\, was Bock bringt! \nBei uns gibt es kein starres Programm. Wir entscheiden gemeinsam\, worauf wir Lust haben. Unser Mix ist so vielfältig wie unsere Gruppe: \n\nKlassiker: Fußball\, Basketball\, Handball\nNetzsport: Volleyball\, Badminton\nAction: Unihockey und vieles mehr!\n\nWir spielen ehrgeizig\, aber immer fair und ohne Druck. Egal ob Profi oder seit der Schulsportzeit nicht mehr aktiv – jeder ist willkommen. \nWann & Wo? \n\nJeden Sonntag: 18:00 – 20:00 Uhr\nTreffpunkt: 17:50 Uhr vor der Sporthalle\nOrt: Gymnasium Marienthal (Holstenhofweg 86\, 22043 Hamburg)\n\nSo einfach bist du dabei: \nWir organisieren uns unkompliziert über die kostenlose Spond-App. Einfach bis Freitag zu- oder absagen\, damit wir wissen\, wie viele Bälle wir aufpumpen müssen. \n \nDas Beste zum Schluss:\nDas Ganze kostet dich gerade mal 22\,– € Jahresbeitrag. Das ist wahrscheinlich der günstigste Sportkurs Hamburgs! \nLust auf ein Probetraining? \nKomm einfach vorbei und schnupper rein – völlig kostenlos und unverbindlich. Bring auch gerne Freunde oder deine Kids mit. \nBist du dabei? Wir freuen uns auf dich!
URL:https://webseite2025.jugend-ohne-grenzen.net/event/sport-am-sonntag-dein-sportlicher-wochenausklang-in-marienthal-%f0%9f%8f%80%f0%9f%8f%90%e2%9a%bd-7/
LOCATION:Sporthalle Marienthal\, Holstenhofweg 86\, Hamburg\, Hamburg\, 22043\, Germany
ATTACH;FMTTYPE=image/jpeg:https://webseite2025.jugend-ohne-grenzen.net/wp-content/uploads/2026/04/Jugend-ohne-Grenzen-Sport-Sonntag-Freiwillig-Ehrenamt-Gemeinschaft-Sportart-Fussball-Badminton-3.jpg
ORGANIZER;CN="Jugend ohne Grenzen e.V.":MAILTO:info@jugend-ohne-grenzen.net
END:VEVENT
END:VCALENDAR