BEGIN:VCALENDAR
VERSION:2.0
PRODID:-//Jugend ohne Grenzen - ECPv6.15.20//NONSGML v1.0//EN
CALSCALE:GREGORIAN
METHOD:PUBLISH
X-ORIGINAL-URL:https://webseite2025.jugend-ohne-grenzen.net
X-WR-CALDESC:Veranstaltungen für Jugend ohne Grenzen
REFRESH-INTERVAL;VALUE=DURATION:PT1H
X-Robots-Tag:noindex
X-PUBLISHED-TTL:PT1H
BEGIN:VTIMEZONE
TZID:Europe/Berlin
BEGIN:DAYLIGHT
TZOFFSETFROM:+0100
TZOFFSETTO:+0200
TZNAME:CEST
DTSTART:20250330T010000
END:DAYLIGHT
BEGIN:STANDARD
TZOFFSETFROM:+0200
TZOFFSETTO:+0100
TZNAME:CET
DTSTART:20251026T010000
END:STANDARD
BEGIN:DAYLIGHT
TZOFFSETFROM:+0100
TZOFFSETTO:+0200
TZNAME:CEST
DTSTART:20260329T010000
END:DAYLIGHT
BEGIN:STANDARD
TZOFFSETFROM:+0200
TZOFFSETTO:+0100
TZNAME:CET
DTSTART:20261025T010000
END:STANDARD
BEGIN:DAYLIGHT
TZOFFSETFROM:+0100
TZOFFSETTO:+0200
TZNAME:CEST
DTSTART:20270328T010000
END:DAYLIGHT
BEGIN:STANDARD
TZOFFSETFROM:+0200
TZOFFSETTO:+0100
TZNAME:CET
DTSTART:20271031T010000
END:STANDARD
END:VTIMEZONE
BEGIN:VEVENT
DTSTART;TZID=Europe/Berlin:20260607T180000
DTEND;TZID=Europe/Berlin:20260607T200000
DTSTAMP:20260424T163103
CREATED:20260413T165624Z
LAST-MODIFIED:20260413T165624Z
UID:387994-1780855200-1780862400@webseite2025.jugend-ohne-grenzen.net
SUMMARY:Sport am Sonntag: Dein sportlicher Wochenausklang in Marienthal! 🏀🏐⚽
DESCRIPTION:Sport am Sonntag: Dein sportlicher Wochenausklang in Marienthal! 🏀🏐⚽ \nDu hast Lust auf Sport\, aber keine Lust auf verbissenen Turnier-Stress? Du willst dich bewegen\, Neues ausprobieren und dabei nette Leute treffen? Dann bist du bei uns genau richtig! \nWir sind die „Sportlichen“ von Jugend ohne Grenzen e.V. – eine bunte Truppe von aktuell ca. 25 „jungen und junggebliebenen“ Sportfans zwischen 16 und 50 Jahren. Bei uns steht der Spaß an der Bewegung an erster Stelle. \n \nWas wir machen? Alles\, was Bock bringt! \nBei uns gibt es kein starres Programm. Wir entscheiden gemeinsam\, worauf wir Lust haben. Unser Mix ist so vielfältig wie unsere Gruppe: \n\nKlassiker: Fußball\, Basketball\, Handball\nNetzsport: Volleyball\, Badminton\nAction: Unihockey und vieles mehr!\n\nWir spielen ehrgeizig\, aber immer fair und ohne Druck. Egal ob Profi oder seit der Schulsportzeit nicht mehr aktiv – jeder ist willkommen. \nWann & Wo? \n\nJeden Sonntag: 18:00 – 20:00 Uhr\nTreffpunkt: 17:50 Uhr vor der Sporthalle\nOrt: Gymnasium Marienthal (Holstenhofweg 86\, 22043 Hamburg)\n\nSo einfach bist du dabei: \nWir organisieren uns unkompliziert über die kostenlose Spond-App. Einfach bis Freitag zu- oder absagen\, damit wir wissen\, wie viele Bälle wir aufpumpen müssen. \n \nDas Beste zum Schluss:\nDas Ganze kostet dich gerade mal 22\,– € Jahresbeitrag. Das ist wahrscheinlich der günstigste Sportkurs Hamburgs! \nLust auf ein Probetraining? \nKomm einfach vorbei und schnupper rein – völlig kostenlos und unverbindlich. Bring auch gerne Freunde oder deine Kids mit. \nBist du dabei? Wir freuen uns auf dich!
URL:https://webseite2025.jugend-ohne-grenzen.net/event/sport-am-sonntag-dein-sportlicher-wochenausklang-in-marienthal-%f0%9f%8f%80%f0%9f%8f%90%e2%9a%bd-8/
LOCATION:Sporthalle Marienthal\, Holstenhofweg 86\, Hamburg\, Hamburg\, 22043\, Germany
ATTACH;FMTTYPE=image/jpeg:https://webseite2025.jugend-ohne-grenzen.net/wp-content/uploads/2026/04/Jugend-ohne-Grenzen-Sport-Sonntag-Freiwillig-Ehrenamt-Gemeinschaft-Sportart-Fussball-Badminton-3.jpg
ORGANIZER;CN="Jugend ohne Grenzen e.V.":MAILTO:info@jugend-ohne-grenzen.net
END:VEVENT
BEGIN:VEVENT
DTSTART;TZID=Europe/Berlin:20260614T180000
DTEND;TZID=Europe/Berlin:20260614T200000
DTSTAMP:20260424T163103
CREATED:20260413T165724Z
LAST-MODIFIED:20260413T165724Z
UID:387996-1781460000-1781467200@webseite2025.jugend-ohne-grenzen.net
SUMMARY:Sport am Sonntag: Dein sportlicher Wochenausklang in Marienthal! 🏀🏐⚽
DESCRIPTION:Sport am Sonntag: Dein sportlicher Wochenausklang in Marienthal! 🏀🏐⚽ \nDu hast Lust auf Sport\, aber keine Lust auf verbissenen Turnier-Stress? Du willst dich bewegen\, Neues ausprobieren und dabei nette Leute treffen? Dann bist du bei uns genau richtig! \nWir sind die „Sportlichen“ von Jugend ohne Grenzen e.V. – eine bunte Truppe von aktuell ca. 25 „jungen und junggebliebenen“ Sportfans zwischen 16 und 50 Jahren. Bei uns steht der Spaß an der Bewegung an erster Stelle. \n \nWas wir machen? Alles\, was Bock bringt! \nBei uns gibt es kein starres Programm. Wir entscheiden gemeinsam\, worauf wir Lust haben. Unser Mix ist so vielfältig wie unsere Gruppe: \n\nKlassiker: Fußball\, Basketball\, Handball\nNetzsport: Volleyball\, Badminton\nAction: Unihockey und vieles mehr!\n\nWir spielen ehrgeizig\, aber immer fair und ohne Druck. Egal ob Profi oder seit der Schulsportzeit nicht mehr aktiv – jeder ist willkommen. \nWann & Wo? \n\nJeden Sonntag: 18:00 – 20:00 Uhr\nTreffpunkt: 17:50 Uhr vor der Sporthalle\nOrt: Gymnasium Marienthal (Holstenhofweg 86\, 22043 Hamburg)\n\nSo einfach bist du dabei: \nWir organisieren uns unkompliziert über die kostenlose Spond-App. Einfach bis Freitag zu- oder absagen\, damit wir wissen\, wie viele Bälle wir aufpumpen müssen. \n \nDas Beste zum Schluss:\nDas Ganze kostet dich gerade mal 22\,– € Jahresbeitrag. Das ist wahrscheinlich der günstigste Sportkurs Hamburgs! \nLust auf ein Probetraining? \nKomm einfach vorbei und schnupper rein – völlig kostenlos und unverbindlich. Bring auch gerne Freunde oder deine Kids mit. \nBist du dabei? Wir freuen uns auf dich!
URL:https://webseite2025.jugend-ohne-grenzen.net/event/sport-am-sonntag-dein-sportlicher-wochenausklang-in-marienthal-%f0%9f%8f%80%f0%9f%8f%90%e2%9a%bd-9/
LOCATION:Sporthalle Marienthal\, Holstenhofweg 86\, Hamburg\, Hamburg\, 22043\, Germany
ATTACH;FMTTYPE=image/jpeg:https://webseite2025.jugend-ohne-grenzen.net/wp-content/uploads/2026/04/Jugend-ohne-Grenzen-Sport-Sonntag-Freiwillig-Ehrenamt-Gemeinschaft-Sportart-Fussball-Badminton-3.jpg
ORGANIZER;CN="Jugend ohne Grenzen e.V.":MAILTO:info@jugend-ohne-grenzen.net
END:VEVENT
BEGIN:VEVENT
DTSTART;TZID=Europe/Berlin:20260618T160000
DTEND;TZID=Europe/Berlin:20260618T180000
DTSTAMP:20260424T163103
CREATED:20260418T191104Z
LAST-MODIFIED:20260418T191104Z
UID:388311-1781798400-1781805600@webseite2025.jugend-ohne-grenzen.net
SUMMARY:Rad-Repair Cafe Rahlstedt
DESCRIPTION:
URL:https://webseite2025.jugend-ohne-grenzen.net/event/rad-repair-cafe-rahlstedt-2/
LOCATION:Stadtteilschule Oldenfelde\, Delingsdorfer Weg 6\, Hamburg\, Hamburg\, 22143\, Germany
ATTACH;FMTTYPE=image/png:https://webseite2025.jugend-ohne-grenzen.net/wp-content/uploads/2026/04/JoG-Rad-Repair-Cafe-Rahlstedt-Fahrrad-Repair-Reparatur-Freiwillig-Ehrenamt-Hamburg.png
ORGANIZER;CN="Jugend ohne Grenzen e.V.":MAILTO:info@jugend-ohne-grenzen.net
END:VEVENT
BEGIN:VEVENT
DTSTART;TZID=Europe/Berlin:20260621T180000
DTEND;TZID=Europe/Berlin:20260621T200000
DTSTAMP:20260424T163103
CREATED:20260413T165921Z
LAST-MODIFIED:20260413T165921Z
UID:388001-1782064800-1782072000@webseite2025.jugend-ohne-grenzen.net
SUMMARY:Sport am Sonntag: Dein sportlicher Wochenausklang in Marienthal! 🏀🏐⚽
DESCRIPTION:Sport am Sonntag: Dein sportlicher Wochenausklang in Marienthal! 🏀🏐⚽ \nDu hast Lust auf Sport\, aber keine Lust auf verbissenen Turnier-Stress? Du willst dich bewegen\, Neues ausprobieren und dabei nette Leute treffen? Dann bist du bei uns genau richtig! \nWir sind die „Sportlichen“ von Jugend ohne Grenzen e.V. – eine bunte Truppe von aktuell ca. 25 „jungen und junggebliebenen“ Sportfans zwischen 16 und 50 Jahren. Bei uns steht der Spaß an der Bewegung an erster Stelle. \n \nWas wir machen? Alles\, was Bock bringt! \nBei uns gibt es kein starres Programm. Wir entscheiden gemeinsam\, worauf wir Lust haben. Unser Mix ist so vielfältig wie unsere Gruppe: \n\nKlassiker: Fußball\, Basketball\, Handball\nNetzsport: Volleyball\, Badminton\nAction: Unihockey und vieles mehr!\n\nWir spielen ehrgeizig\, aber immer fair und ohne Druck. Egal ob Profi oder seit der Schulsportzeit nicht mehr aktiv – jeder ist willkommen. \nWann & Wo? \n\nJeden Sonntag: 18:00 – 20:00 Uhr\nTreffpunkt: 17:50 Uhr vor der Sporthalle\nOrt: Gymnasium Marienthal (Holstenhofweg 86\, 22043 Hamburg)\n\nSo einfach bist du dabei: \nWir organisieren uns unkompliziert über die kostenlose Spond-App. Einfach bis Freitag zu- oder absagen\, damit wir wissen\, wie viele Bälle wir aufpumpen müssen. \n \nDas Beste zum Schluss:\nDas Ganze kostet dich gerade mal 22\,– € Jahresbeitrag. Das ist wahrscheinlich der günstigste Sportkurs Hamburgs! \nLust auf ein Probetraining? \nKomm einfach vorbei und schnupper rein – völlig kostenlos und unverbindlich. Bring auch gerne Freunde oder deine Kids mit. \nBist du dabei? Wir freuen uns auf dich!
URL:https://webseite2025.jugend-ohne-grenzen.net/event/sport-am-sonntag-dein-sportlicher-wochenausklang-in-marienthal-%f0%9f%8f%80%f0%9f%8f%90%e2%9a%bd-11/
LOCATION:Sporthalle Marienthal\, Holstenhofweg 86\, Hamburg\, Hamburg\, 22043\, Germany
ATTACH;FMTTYPE=image/jpeg:https://webseite2025.jugend-ohne-grenzen.net/wp-content/uploads/2026/04/Jugend-ohne-Grenzen-Sport-Sonntag-Freiwillig-Ehrenamt-Gemeinschaft-Sportart-Fussball-Badminton-3.jpg
ORGANIZER;CN="Jugend ohne Grenzen e.V.":MAILTO:info@jugend-ohne-grenzen.net
END:VEVENT
BEGIN:VEVENT
DTSTART;TZID=Europe/Berlin:20260628T180000
DTEND;TZID=Europe/Berlin:20260628T200000
DTSTAMP:20260424T163103
CREATED:20260413T170117Z
LAST-MODIFIED:20260413T170117Z
UID:388005-1782669600-1782676800@webseite2025.jugend-ohne-grenzen.net
SUMMARY:Sport am Sonntag: Dein sportlicher Wochenausklang in Marienthal! 🏀🏐⚽
DESCRIPTION:Sport am Sonntag: Dein sportlicher Wochenausklang in Marienthal! 🏀🏐⚽ \nDu hast Lust auf Sport\, aber keine Lust auf verbissenen Turnier-Stress? Du willst dich bewegen\, Neues ausprobieren und dabei nette Leute treffen? Dann bist du bei uns genau richtig! \nWir sind die „Sportlichen“ von Jugend ohne Grenzen e.V. – eine bunte Truppe von aktuell ca. 25 „jungen und junggebliebenen“ Sportfans zwischen 16 und 50 Jahren. Bei uns steht der Spaß an der Bewegung an erster Stelle. \n \nWas wir machen? Alles\, was Bock bringt! \nBei uns gibt es kein starres Programm. Wir entscheiden gemeinsam\, worauf wir Lust haben. Unser Mix ist so vielfältig wie unsere Gruppe: \n\nKlassiker: Fußball\, Basketball\, Handball\nNetzsport: Volleyball\, Badminton\nAction: Unihockey und vieles mehr!\n\nWir spielen ehrgeizig\, aber immer fair und ohne Druck. Egal ob Profi oder seit der Schulsportzeit nicht mehr aktiv – jeder ist willkommen. \nWann & Wo? \n\nJeden Sonntag: 18:00 – 20:00 Uhr\nTreffpunkt: 17:50 Uhr vor der Sporthalle\nOrt: Gymnasium Marienthal (Holstenhofweg 86\, 22043 Hamburg)\n\nSo einfach bist du dabei: \nWir organisieren uns unkompliziert über die kostenlose Spond-App. Einfach bis Freitag zu- oder absagen\, damit wir wissen\, wie viele Bälle wir aufpumpen müssen. \n \nDas Beste zum Schluss:\nDas Ganze kostet dich gerade mal 22\,– € Jahresbeitrag. Das ist wahrscheinlich der günstigste Sportkurs Hamburgs! \nLust auf ein Probetraining? \nKomm einfach vorbei und schnupper rein – völlig kostenlos und unverbindlich. Bring auch gerne Freunde oder deine Kids mit. \nBist du dabei? Wir freuen uns auf dich!
URL:https://webseite2025.jugend-ohne-grenzen.net/event/sport-am-sonntag-dein-sportlicher-wochenausklang-in-marienthal-%f0%9f%8f%80%f0%9f%8f%90%e2%9a%bd-13/
LOCATION:Sporthalle Marienthal\, Holstenhofweg 86\, Hamburg\, Hamburg\, 22043\, Germany
ATTACH;FMTTYPE=image/jpeg:https://webseite2025.jugend-ohne-grenzen.net/wp-content/uploads/2026/04/Jugend-ohne-Grenzen-Sport-Sonntag-Freiwillig-Ehrenamt-Gemeinschaft-Sportart-Fussball-Badminton-3.jpg
ORGANIZER;CN="Jugend ohne Grenzen e.V.":MAILTO:info@jugend-ohne-grenzen.net
END:VEVENT
END:VCALENDAR